BEGIN:VCALENDAR
VERSION:2.0
PRODID:-//85.13.156.204//NONSGML kigkonsult.se iCalcreator 2.20//
CALSCALE:GREGORIAN
METHOD:PUBLISH
X-WR-TIMEZONE:Europe/Berlin
BEGIN:VEVENT
UID:event1249@www.pssc-dinslaken.de
DTSTAMP:20260420T005343Z
CATEGORIES:Stand vermietet
DESCRIPTION:Vermietung Hegering\nKategorie: Stand vermietet\nICS-Link: http
 s://www.pssc-dinslaken.de/index.php?option=com_jem&view=event&id=1249:verm
 ietung-hegering\n
DTSTART;TZID=Europe/Berlin:20260921T190000
DTEND;TZID=Europe/Berlin:20260921T210000
SUMMARY:Vermietung Hegering
URL:https://www.pssc-dinslaken.de/index.php?option=com_jem&view=event&id=12
 49:vermietung-hegering
END:VEVENT
END:VCALENDAR