BEGIN:VCALENDAR
VERSION:2.0
PRODID:-//85.13.156.204//NONSGML kigkonsult.se iCalcreator 2.20//
CALSCALE:GREGORIAN
METHOD:PUBLISH
X-WR-TIMEZONE:Europe/Berlin
BEGIN:VEVENT
UID:event1261@www.pssc-dinslaken.de
DTSTAMP:20260426T001924Z
CATEGORIES:Ligawettkämpfe
DESCRIPTION:Wettkampf Lupi 3 \nKategorie: Ligawettkämpfe\nICS-Link: https:/
 /www.pssc-dinslaken.de/index.php?option=com_jem&view=event&id=1261:wettkam
 pf-lupi-3\n
DTSTART;TZID=Europe/Berlin:20251125T190000
DTEND;TZID=Europe/Berlin:20251125T210000
LOCATION:Eis-Sporthalle Dinslaken\,Am Stadtbad 1\,46537 Dinslaken
SUMMARY:Wettkampf Lupi 3 
URL:https://www.pssc-dinslaken.de/index.php?option=com_jem&view=event&id=12
 61:wettkampf-lupi-3
END:VEVENT
END:VCALENDAR